BEGIN:VCALENDAR
VERSION:2.0
PRODID:-//Department of Finance and Administration - FSM - ECPv4.8.2//NONSGML v1.0//EN
CALSCALE:GREGORIAN
METHOD:PUBLISH
X-WR-CALNAME:Department of Finance and Administration - FSM
X-ORIGINAL-URL:https://dofa.gov.fm
X-WR-CALDESC:Events for Department of Finance and Administration - FSM
BEGIN:VEVENT
DTSTART;VALUE=DATE:20190530
DTEND;VALUE=DATE:20190614
DTSTAMP:20210513T083801
CREATED:20190523T005802Z
LAST-MODIFIED:20190523T005802Z
UID:1473-1559174400-1560470399@dofa.gov.fm
SUMMARY:Mission Announcement FSM Connectivity Project and Digital FSM
DESCRIPTION:
URL:https://dofa.gov.fm/event/mission-announcement-fsm-connectivity-project-and-digital-fsm/
END:VEVENT
BEGIN:VEVENT
DTSTART;VALUE=DATE:20190604
DTEND;VALUE=DATE:20190618
DTSTAMP:20210513T083801
CREATED:20190225T031332Z
LAST-MODIFIED:20190225T031332Z
UID:951-1559606400-1560815999@dofa.gov.fm
SUMMARY:IMF Article IV Mission
DESCRIPTION:
URL:https://dofa.gov.fm/event/imf-article-iv-mission/
END:VEVENT
BEGIN:VEVENT
DTSTART;VALUE=DATE:20190612
DTEND;VALUE=DATE:20190624
DTSTAMP:20210513T083801
CREATED:20190608T141002Z
LAST-MODIFIED:20190608T141002Z
UID:1478-1560297600-1561334399@dofa.gov.fm
SUMMARY:Implementation Support Mission - Sustainable Energy Development and Access Project (SEDAP)
DESCRIPTION:
URL:https://dofa.gov.fm/event/implementation-support-mission-sustainable-energy-development-and-access-project-sedap/
END:VEVENT
END:VCALENDAR