BEGIN:VCALENDAR
VERSION:2.0
PRODID:-//Department of Finance and Administration - FSM - ECPv4.8.2//NONSGML v1.0//EN
CALSCALE:GREGORIAN
METHOD:PUBLISH
X-WR-CALNAME:Department of Finance and Administration - FSM
X-ORIGINAL-URL:https://dofa.gov.fm
X-WR-CALDESC:Events for Department of Finance and Administration - FSM
BEGIN:VEVENT
DTSTART;VALUE=DATE:20200203
DTEND;VALUE=DATE:20200208
DTSTAMP:20210426T055401
CREATED:20200123T082618Z
LAST-MODIFIED:20200123T082701Z
UID:1799-1580688000-1581119999@dofa.gov.fm
SUMMARY:PROP Restructuring Mission\, Pohnpei
DESCRIPTION:
URL:https://dofa.gov.fm/event/prop-restructuring-mission-pohnpei/
END:VEVENT
END:VCALENDAR