BEGIN:VCALENDAR
VERSION:2.0
PRODID:-//Department of Finance and Administration - FSM - ECPv4.8.2//NONSGML v1.0//EN
CALSCALE:GREGORIAN
METHOD:PUBLISH
X-WR-CALNAME:Department of Finance and Administration - FSM
X-ORIGINAL-URL:https://dofa.gov.fm
X-WR-CALDESC:Events for Department of Finance and Administration - FSM
BEGIN:VEVENT
DTSTART;VALUE=DATE:20200203
DTEND;VALUE=DATE:20200208
DTSTAMP:20210426T051141
CREATED:20191218T012219Z
LAST-MODIFIED:20191218T035608Z
UID:1789-1580688000-1581119999@dofa.gov.fm
SUMMARY:PFM Project Mission\, Kosrae and Pohnpei
DESCRIPTION:
URL:https://dofa.gov.fm/event/pfm-project-mission-kosrae-and-pohnpei-2/
END:VEVENT
END:VCALENDAR